BEGIN:VCALENDAR
VERSION:2.0
PRODID:-//Meditation - Margrit Wenk-Schlegel - ECPv6.15.20//NONSGML v1.0//EN
CALSCALE:GREGORIAN
METHOD:PUBLISH
X-WR-CALNAME:Meditation - Margrit Wenk-Schlegel
X-ORIGINAL-URL:https://margritwenk.ch
X-WR-CALDESC:Veranstaltungen für Meditation - Margrit Wenk-Schlegel
REFRESH-INTERVAL;VALUE=DURATION:PT1H
X-Robots-Tag:noindex
X-PUBLISHED-TTL:PT1H
BEGIN:VTIMEZONE
TZID:Europe/Zurich
BEGIN:DAYLIGHT
TZOFFSETFROM:+0100
TZOFFSETTO:+0200
TZNAME:CEST
DTSTART:20240331T010000
END:DAYLIGHT
BEGIN:STANDARD
TZOFFSETFROM:+0200
TZOFFSETTO:+0100
TZNAME:CET
DTSTART:20241027T010000
END:STANDARD
BEGIN:DAYLIGHT
TZOFFSETFROM:+0100
TZOFFSETTO:+0200
TZNAME:CEST
DTSTART:20250330T010000
END:DAYLIGHT
BEGIN:STANDARD
TZOFFSETFROM:+0200
TZOFFSETTO:+0100
TZNAME:CET
DTSTART:20251026T010000
END:STANDARD
BEGIN:DAYLIGHT
TZOFFSETFROM:+0100
TZOFFSETTO:+0200
TZNAME:CEST
DTSTART:20260329T010000
END:DAYLIGHT
BEGIN:STANDARD
TZOFFSETFROM:+0200
TZOFFSETTO:+0100
TZNAME:CET
DTSTART:20261025T010000
END:STANDARD
BEGIN:DAYLIGHT
TZOFFSETFROM:+0100
TZOFFSETTO:+0200
TZNAME:CEST
DTSTART:20270328T010000
END:DAYLIGHT
BEGIN:STANDARD
TZOFFSETFROM:+0200
TZOFFSETTO:+0100
TZNAME:CET
DTSTART:20271031T010000
END:STANDARD
END:VTIMEZONE
BEGIN:VEVENT
DTSTART;TZID=Europe/Zurich:20260402T190000
DTEND;TZID=Europe/Zurich:20260403T000000
DTSTAMP:20260420T165427
CREATED:20251006T201201Z
LAST-MODIFIED:20251006T201201Z
UID:1079-1775156400-1775174400@margritwenk.ch
SUMMARY:Meditationsnacht 'Bleibet hier und wachet mit mir'
DESCRIPTION:Der Gründonnerstag erinnert uns an das letzte Mahl Jesu mit seinen Freundinnen und Freunden. Jesus spricht das Dankgebet\, bricht das Brot\, teilt den Wein aus – elementare Zeichen seiner göttlichen Gegenwart. Und er wird verraten. \nIm Garten Getsemani durchleidet er Todesangst und Gottverlassenheit und bittet:«Bleibt hier und wacht mit mir». Getsemani ist hier und heute – die ganze Erde ist der Garten\, in dem Menschen zittern\, Angst haben\, leiden und uns inständig bitten zu erwachen und wach da zu sein in Verbundenheit. \nUm 19 Uhr feiern wir einen schlichten Gottesdienst im Kreis \nAb ca. 20.00 Uhr Schweigemeditation im Stundenrhythmus mit Impulstexten und Liedern. – Während der Pausen\, jeweils vor der vollen Stunde ist dazu kommen oder gehen möglich. \nEine Anmeldung ist nicht nötig.
URL:https://margritwenk.ch/event/meditationsnacht-bleibet-hier-und-wachet-mit-mir/
LOCATION:ökumenische Gemeinde Halden\, St. Gallen\, 9016
END:VEVENT
BEGIN:VEVENT
DTSTART;TZID=Europe/Zurich:20260323T183000
DTEND;TZID=Europe/Zurich:20260323T200000
DTSTAMP:20260420T165427
CREATED:20251118T094543Z
LAST-MODIFIED:20251118T094543Z
UID:1129-1774290600-1774296000@margritwenk.ch
SUMMARY:offener Meditationsabend
DESCRIPTION:3x 25 Minuten Zazen –  Schweigemeditation\n\n\nEs braucht keine Anmeldung. Jede halbe Stunde ist dazukommen oder zu gehen ist möglich während der Gehmeditation. \nökumenische Kirche Halden\, Oberhaldenstrasse 25\, 9016 St. Gallen
URL:https://margritwenk.ch/event/offener-meditationsabend-19/
END:VEVENT
BEGIN:VEVENT
DTSTART;TZID=Europe/Zurich:20260315T180000
DTEND;TZID=Europe/Zurich:20260320T133000
DTSTAMP:20260420T165427
CREATED:20250619T155052Z
LAST-MODIFIED:20251124T131357Z
UID:1017-1773597600-1774013400@margritwenk.ch
SUMMARY:Kontemplationswoche via integralis
DESCRIPTION:„Acht Säulen der Freude“ nach Desmond Tutu und Dalai Lama \nDer Weg in die eigene Tiefe erfordert Entschiedenheit und eine radikale Bereitschaft\, ganz da zu sein in dem\, was jetzt gerade ist. Mit Entschlossenheit und Güte üben wir\, ganz im Atem zu sein mit Anfängergeist – jeden Atemzug neu. In der schlichten Präsenz zu sein lässt eine tiefe Freude in uns aufkeimen. \nIn den Vorträgen lassen wir uns leiten von den Acht Säulen der Freude\, die der Erzbischof von Südafrika Desmond Tutu und der Dalai Lama in einem einwöchigen\, freundschaftlichen  Austausch miteinander erarbeitet haben. Sie beide gingen durch erschütternde und schmerzhafte Erfahrungen hindurch zusammen mit ihrem Volk und sind geprägt davon. In ihren Gesprächen berühren sie die Hindernisse auf dem Weg zur Freude und die Geisteshaltungen\, welche die Freude möglich machen und nähren. \nPassend zum Wochenthema wird uns Anita Wysser mit ihren wunderbaren Flötenklängen in den Gottesdiensten am Abend begleiten. Sie wird am letzten Abend von ihren Kurzgedichten vortragen begleitet von Klängen und Melodien. Ein besonderes ‘Schmackerl’. \nKontemplation via integralis verbindet die Tradition der Schweigemeditation des Zen und die von christlichen MystikerInnen entfalteten Kontemplationswege. Via integralis wurde gegründet von Pia Gyger ktw und Niklaus Brantschen SJ\, beide christliche Ordensleute\, Zenlehrer der „Sanbo-Kyodan-Schule“ und von Glassman Roshi autorisierte Zenmeister. Die Kontemplation via integralis ist die Frucht der jahrelangen interreligiösen Begegnung. \nTägliche Kurselemente:\nZazen\, Kinhin (Gehmeditation)\, Vortrag\, Begleitgespräch\, Samu (Arbeit in Achtsamkeit)\, Gottesdienst. \nGanzer Kurs im Schweigen. Bitte tragen Sie bequeme\, dunkle (wenn vorhanden schwarze)\, nicht raschelnde Kleidung. \nTeilnahmebedingung:\nEinführung in Kontemplation oder Zen oder Erfahrung in längeren Einheiten. Wenn Sie diese Bedingung nicht mitbringen und trotzdem an der Kontemplationswoche teilnehmen möchten\, melden sie sich bitte im Voraus bei Margrit Wenk-Schlegel (071 288 65 88 oder mchwenk@hotmail.com ) \nFinanzielle Schwierigkeiten sollen nie ein Grund sein\, nicht teilzunehmen. Es besteht ein Solidaritätsfonds\, durch den wir unkompliziert Beiträge leisten können. Melden Sie sich bitte bei Margrit Wenk.
URL:https://margritwenk.ch/event/kontemplationswoche-via-integralis-4/
LOCATION:Propstei Wislikofen\, Wislikofen\, 5463
ORGANIZER;CN="Propstei Wislikofen":MAILTO:info@propstei.ch
END:VEVENT
BEGIN:VEVENT
DTSTART;TZID=Europe/Zurich:20251118T183000
DTEND;TZID=Europe/Zurich:20260323T200000
DTSTAMP:20260420T165427
CREATED:20251118T071207Z
LAST-MODIFIED:20251118T071207Z
UID:1092-1763490600-1774296000@margritwenk.ch
SUMMARY:offener Meditationsabend
DESCRIPTION:3x 25 Minuten Zazen –  Schweigemeditation\n\n\nEs braucht keine Anmeldung. Jede halbe Stunde ist dazukommen oder zu gehen ist möglich während der Gehmeditation. \nökumenische Kirche Halden\, Oberhaldenstrasse 25\, 9016 St. Gallen
URL:https://margritwenk.ch/event/offener-meditationsabend-6/
END:VEVENT
END:VCALENDAR